BEGIN:VCALENDAR
VERSION:2.0
PRODID:-//Heartwork - ECPv6.15.20//NONSGML v1.0//EN
CALSCALE:GREGORIAN
METHOD:PUBLISH
X-WR-CALNAME:Heartwork
X-ORIGINAL-URL:https://heartwork.earth
X-WR-CALDESC:Events for Heartwork
REFRESH-INTERVAL;VALUE=DURATION:PT1H
X-Robots-Tag:noindex
X-PUBLISHED-TTL:PT1H
BEGIN:VTIMEZONE
TZID:UTC
BEGIN:STANDARD
TZOFFSETFROM:+0000
TZOFFSETTO:+0000
TZNAME:UTC
DTSTART:20230101T000000
END:STANDARD
END:VTIMEZONE
BEGIN:VEVENT
DTSTART;TZID=UTC:20240430T120000
DTEND;TZID=UTC:20240430T130000
DTSTAMP:20260425T202534
CREATED:20240425T072518Z
LAST-MODIFIED:20240425T072518Z
UID:1524-1714478400-1714482000@heartwork.earth
SUMMARY:Free Webinar: How To Build Synergy For Sustainable Success
DESCRIPTION:
URL:https://info.heartwork.earth/webinar-synergy-for-sustainability#new_tab
ATTACH;FMTTYPE=image/png:https://heartwork.earth/wp-content/uploads/2024/04/LinkedIn-Event-header-18.png
END:VEVENT
END:VCALENDAR