BEGIN:VCALENDAR
VERSION:2.0
PRODID:-//Heartwork - ECPv6.15.20//NONSGML v1.0//EN
CALSCALE:GREGORIAN
METHOD:PUBLISH
X-WR-CALNAME:Heartwork
X-ORIGINAL-URL:https://heartwork.earth
X-WR-CALDESC:Events for Heartwork
REFRESH-INTERVAL;VALUE=DURATION:PT1H
X-Robots-Tag:noindex
X-PUBLISHED-TTL:PT1H
BEGIN:VTIMEZONE
TZID:UTC
BEGIN:STANDARD
TZOFFSETFROM:+0000
TZOFFSETTO:+0000
TZNAME:UTC
DTSTART:20230101T000000
END:STANDARD
END:VTIMEZONE
BEGIN:VEVENT
DTSTART;TZID=UTC:20240625T120000
DTEND;TZID=UTC:20240625T130000
DTSTAMP:20260425T191001
CREATED:20240611T101623Z
LAST-MODIFIED:20240611T101623Z
UID:1659-1719316800-1719320400@heartwork.earth
SUMMARY:Free Webinar: 6 Key Areas of Focus for 2024
DESCRIPTION:What you’ll learn:\n• Discover the Wheel of Sustainability and its six essential focus areas.\n• Gain insights into balancing the urgency of sustainability with personal well-being.\n• Learn practical strategies to prevent burnout while driving impactful change.\n• Hear from experts on managing the pressures of sustainability roles effectively.\n• Explore resources and tools to support your journey in sustainable leadership. \nWhy Attend?\nThis webinar offers a unique opportunity to understand the critical areas of focus for sustainability leaders in 2024. We will delve into real-world challenges\, share actionable insights\, and provide valuable resources to help you thrive in your role. Plus\, you’ll get a chance to learn about HeartWork’s offerings and how they can support you in maintaining both professional effectiveness and personal well-being.
URL:https://info.heartwork.earth/webinar-6-key-focus-areas-for-sustainability-managers-in-2024
ATTACH;FMTTYPE=image/png:https://heartwork.earth/wp-content/uploads/2024/06/LinkedIn-Event-header-20.png
END:VEVENT
END:VCALENDAR