BEGIN:VCALENDAR
VERSION:2.0
PRODID:-//Heartwork - ECPv6.15.20//NONSGML v1.0//EN
CALSCALE:GREGORIAN
METHOD:PUBLISH
X-WR-CALNAME:Heartwork
X-ORIGINAL-URL:https://heartwork.earth
X-WR-CALDESC:Events for Heartwork
REFRESH-INTERVAL;VALUE=DURATION:PT1H
X-Robots-Tag:noindex
X-PUBLISHED-TTL:PT1H
BEGIN:VTIMEZONE
TZID:Atlantic/Azores
BEGIN:DAYLIGHT
TZOFFSETFROM:-0100
TZOFFSETTO:+0000
TZNAME:+00
DTSTART:20240331T010000
END:DAYLIGHT
BEGIN:STANDARD
TZOFFSETFROM:+0000
TZOFFSETTO:-0100
TZNAME:-01
DTSTART:20241027T010000
END:STANDARD
BEGIN:DAYLIGHT
TZOFFSETFROM:-0100
TZOFFSETTO:+0000
TZNAME:+00
DTSTART:20250330T010000
END:DAYLIGHT
BEGIN:STANDARD
TZOFFSETFROM:+0000
TZOFFSETTO:-0100
TZNAME:-01
DTSTART:20251026T010000
END:STANDARD
BEGIN:DAYLIGHT
TZOFFSETFROM:-0100
TZOFFSETTO:+0000
TZNAME:+00
DTSTART:20260329T010000
END:DAYLIGHT
BEGIN:STANDARD
TZOFFSETFROM:+0000
TZOFFSETTO:-0100
TZNAME:-01
DTSTART:20261025T010000
END:STANDARD
END:VTIMEZONE
BEGIN:VEVENT
DTSTART;TZID=Atlantic/Azores:20251211T140000
DTEND;TZID=Atlantic/Azores:20251211T160000
DTSTAMP:20260422T203231
CREATED:20251014T103223Z
LAST-MODIFIED:20251201T115455Z
UID:3344-1765461600-1765468800@heartwork.earth
SUMMARY:Community Event: The Mastermind Workshop
DESCRIPTION:FREE COMMUNITY WORKSHOP \nA facilitated peer workshop designed for in-house sustainability professionals\, the Mastermind is a space to bring your toughest challenge\, and leave with new clarity\, practical input\, and support from peers who truly understand your context.
URL:https://info.heartwork.earth/the-mastermind-session#new_tab
ATTACH;FMTTYPE=image/png:https://heartwork.earth/wp-content/uploads/2025/10/8.png
END:VEVENT
END:VCALENDAR