BEGIN:VCALENDAR
VERSION:2.0
PRODID:-//Heartwork - ECPv6.15.20//NONSGML v1.0//EN
CALSCALE:GREGORIAN
METHOD:PUBLISH
X-ORIGINAL-URL:https://heartwork.earth
X-WR-CALDESC:Events for Heartwork
REFRESH-INTERVAL;VALUE=DURATION:PT1H
X-Robots-Tag:noindex
X-PUBLISHED-TTL:PT1H
BEGIN:VTIMEZONE
TZID:Atlantic/Azores
BEGIN:DAYLIGHT
TZOFFSETFROM:-0100
TZOFFSETTO:+0000
TZNAME:+00
DTSTART:20240331T010000
END:DAYLIGHT
BEGIN:STANDARD
TZOFFSETFROM:+0000
TZOFFSETTO:-0100
TZNAME:-01
DTSTART:20241027T010000
END:STANDARD
BEGIN:DAYLIGHT
TZOFFSETFROM:-0100
TZOFFSETTO:+0000
TZNAME:+00
DTSTART:20250330T010000
END:DAYLIGHT
BEGIN:STANDARD
TZOFFSETFROM:+0000
TZOFFSETTO:-0100
TZNAME:-01
DTSTART:20251026T010000
END:STANDARD
BEGIN:DAYLIGHT
TZOFFSETFROM:-0100
TZOFFSETTO:+0000
TZNAME:+00
DTSTART:20260329T010000
END:DAYLIGHT
BEGIN:STANDARD
TZOFFSETFROM:+0000
TZOFFSETTO:-0100
TZNAME:-01
DTSTART:20261025T010000
END:STANDARD
END:VTIMEZONE
BEGIN:VEVENT
DTSTART;TZID=Atlantic/Azores:20251218T160000
DTEND;TZID=Atlantic/Azores:20251218T180000
DTSTAMP:20260422T203351
CREATED:20251014T110548Z
LAST-MODIFIED:20251015T122105Z
UID:3353-1766073600-1766080800@heartwork.earth
SUMMARY:Community Event:  The Community Gathering
DESCRIPTION:FREE COMMUNITY EVENT \nA casual\, human gathering for sustainability leaders to meet offline\, swap ideas\, and breathe together before the new year. \nWe’ll share highlights and hard-won lessons from 2025\, then set kind\, clear intentions for 2026\, personally and professionally. \n  \nCome as you are; leave with fresh energy\, new allies\, and one simple next step you’re excited to take.
URL:https://info.heartwork.earth/the-community-gathering#new_tab
ATTACH;FMTTYPE=image/png:https://heartwork.earth/wp-content/uploads/2025/10/9.png
END:VEVENT
END:VCALENDAR