BEGIN:VCALENDAR
VERSION:2.0
PRODID:-//Heartwork - ECPv6.15.20//NONSGML v1.0//EN
CALSCALE:GREGORIAN
METHOD:PUBLISH
X-ORIGINAL-URL:https://heartwork.earth
X-WR-CALDESC:Events for Heartwork
REFRESH-INTERVAL;VALUE=DURATION:PT1H
X-Robots-Tag:noindex
X-PUBLISHED-TTL:PT1H
BEGIN:VTIMEZONE
TZID:Atlantic/Azores
BEGIN:DAYLIGHT
TZOFFSETFROM:-0100
TZOFFSETTO:+0000
TZNAME:+00
DTSTART:20250330T010000
END:DAYLIGHT
BEGIN:STANDARD
TZOFFSETFROM:+0000
TZOFFSETTO:-0100
TZNAME:-01
DTSTART:20251026T010000
END:STANDARD
BEGIN:DAYLIGHT
TZOFFSETFROM:-0100
TZOFFSETTO:+0000
TZNAME:+00
DTSTART:20260329T010000
END:DAYLIGHT
BEGIN:STANDARD
TZOFFSETFROM:+0000
TZOFFSETTO:-0100
TZNAME:-01
DTSTART:20261025T010000
END:STANDARD
BEGIN:DAYLIGHT
TZOFFSETFROM:-0100
TZOFFSETTO:+0000
TZNAME:+00
DTSTART:20270328T010000
END:DAYLIGHT
BEGIN:STANDARD
TZOFFSETFROM:+0000
TZOFFSETTO:-0100
TZNAME:-01
DTSTART:20271031T010000
END:STANDARD
END:VTIMEZONE
BEGIN:VEVENT
DTSTART;TZID=Atlantic/Azores:20260115T100000
DTEND;TZID=Atlantic/Azores:20260115T113000
DTSTAMP:20260422T221432
CREATED:20251015T121245Z
LAST-MODIFIED:20251015T121953Z
UID:3367-1768471200-1768476600@heartwork.earth
SUMMARY:Community Event:  AI in Sustainability: Friend or Foe?
DESCRIPTION:FREE COMMUNITY EVENT \nIn this practical session\, we’ll show how to use AI as a co-pilot: to speed up reporting\, sharpen strategy\, and energize engagement. \n  \nWalk away with workflows that reduce busywork so you can focus on the human work of leading change.
URL:https://info.heartwork.earth/ai-in-sust-friend-or-foe#new_tab
ATTACH;FMTTYPE=image/png:https://heartwork.earth/wp-content/uploads/2025/10/4.png
END:VEVENT
END:VCALENDAR