BEGIN:VCALENDAR
VERSION:2.0
PRODID:-//Heartwork - ECPv6.15.20//NONSGML v1.0//EN
CALSCALE:GREGORIAN
METHOD:PUBLISH
X-ORIGINAL-URL:https://heartwork.earth
X-WR-CALDESC:Events for Heartwork
REFRESH-INTERVAL;VALUE=DURATION:PT1H
X-Robots-Tag:noindex
X-PUBLISHED-TTL:PT1H
BEGIN:VTIMEZONE
TZID:UTC
BEGIN:STANDARD
TZOFFSETFROM:+0000
TZOFFSETTO:+0000
TZNAME:UTC
DTSTART:20220101T000000
END:STANDARD
END:VTIMEZONE
BEGIN:VEVENT
DTSTART;TZID=UTC:20231017T120000
DTEND;TZID=UTC:20231017T130000
DTSTAMP:20260426T034451
CREATED:20230604T162813Z
LAST-MODIFIED:20231005T093922Z
UID:721-1697544000-1697547600@heartwork.earth
SUMMARY:Webinar - Sustainable Leadership in the Nonprofit Sector: Maximizing Impact
DESCRIPTION:Let’s discuss unique challenges and opportunities for sustainable leadership in nonprofit organizations\, focusing on strategies to maximize social and environmental impact. 
URL:https://info.heartwork.earth/weekly-insight#new_tab
END:VEVENT
BEGIN:VEVENT
DTSTART;TZID=UTC:20231031T120000
DTEND;TZID=UTC:20231031T130000
DTSTAMP:20260426T034451
CREATED:20230604T162849Z
LAST-MODIFIED:20231024T124252Z
UID:723-1698753600-1698757200@heartwork.earth
SUMMARY:Webinar - The Role of Investors in Driving Sustainable Leadership
DESCRIPTION:Let’s examine the growing influence of investors in promoting sustainability\, discussing how leaders can effectively engage with investors\, integrate sustainability into financial decision-making\, and attract responsible capital. 
URL:https://info.heartwork.earth/weekly-insight#new_tab
END:VEVENT
END:VCALENDAR