BEGIN:VCALENDAR
VERSION:2.0
PRODID:-//Heartwork - ECPv6.15.20//NONSGML v1.0//EN
CALSCALE:GREGORIAN
METHOD:PUBLISH
X-ORIGINAL-URL:https://heartwork.earth
X-WR-CALDESC:Events for Heartwork
REFRESH-INTERVAL;VALUE=DURATION:PT1H
X-Robots-Tag:noindex
X-PUBLISHED-TTL:PT1H
BEGIN:VTIMEZONE
TZID:UTC
BEGIN:STANDARD
TZOFFSETFROM:+0000
TZOFFSETTO:+0000
TZNAME:UTC
DTSTART:20230101T000000
END:STANDARD
END:VTIMEZONE
BEGIN:VEVENT
DTSTART;TZID=UTC:20240326T120000
DTEND;TZID=UTC:20240326T130000
DTSTAMP:20260425T214220
CREATED:20240227T141905Z
LAST-MODIFIED:20240319T082548Z
UID:1396-1711454400-1711458000@heartwork.earth
SUMMARY:From Bolt-On to Built-In: A Handbook For Sustainability Professionals
DESCRIPTION:Why Attend?\nThe CSRD as an opportunity: Learn how to use the regulatory obligation as an chance to create a movement for change. \nEmbedding sustainability: Rather than adding another bolt\, learn how to embed sustainability in your company’s DNA. \nEngaging your team: Success cannot be achieved alone. This webinar will help you activate your colleagues to help achieve your goals. \nWhat You’ll Learn:\nHolistic Sustainability: While many organizations have started with an environmental approach\, an all-round plan is needed. \nMovement for Change: Sustainability needs to be a collaborative journey. Learn to work both top-down as well as bottom-up. \nThe New Normal: It’s clear that sustainability is here to stay. Learn how to embrace this to ensure continuity for your organization.
URL:https://heartwork.earth/event/beyond-greenwashing-the-essential-role-of-sustainability-managers/
END:VEVENT
END:VCALENDAR