BEGIN:VCALENDAR
VERSION:2.0
PRODID:-//Heartwork - ECPv6.15.20//NONSGML v1.0//EN
CALSCALE:GREGORIAN
METHOD:PUBLISH
X-ORIGINAL-URL:https://heartwork.earth
X-WR-CALDESC:Events for Heartwork
REFRESH-INTERVAL;VALUE=DURATION:PT1H
X-Robots-Tag:noindex
X-PUBLISHED-TTL:PT1H
BEGIN:VTIMEZONE
TZID:Atlantic/Azores
BEGIN:DAYLIGHT
TZOFFSETFROM:-0100
TZOFFSETTO:+0000
TZNAME:+00
DTSTART:20240331T010000
END:DAYLIGHT
BEGIN:STANDARD
TZOFFSETFROM:+0000
TZOFFSETTO:-0100
TZNAME:-01
DTSTART:20241027T010000
END:STANDARD
BEGIN:DAYLIGHT
TZOFFSETFROM:-0100
TZOFFSETTO:+0000
TZNAME:+00
DTSTART:20250330T010000
END:DAYLIGHT
BEGIN:STANDARD
TZOFFSETFROM:+0000
TZOFFSETTO:-0100
TZNAME:-01
DTSTART:20251026T010000
END:STANDARD
BEGIN:DAYLIGHT
TZOFFSETFROM:-0100
TZOFFSETTO:+0000
TZNAME:+00
DTSTART:20260329T010000
END:DAYLIGHT
BEGIN:STANDARD
TZOFFSETFROM:+0000
TZOFFSETTO:-0100
TZNAME:-01
DTSTART:20261025T010000
END:STANDARD
END:VTIMEZONE
BEGIN:VEVENT
DTSTART;TZID=Atlantic/Azores:20251113T140000
DTEND;TZID=Atlantic/Azores:20251113T160000
DTSTAMP:20260422T172119
CREATED:20251014T100601Z
LAST-MODIFIED:20251014T103040Z
UID:3335-1763042400-1763049600@heartwork.earth
SUMMARY:Community Event: Playbook Workshop
DESCRIPTION:FREE COMMUNITY WORKSHOP \nBefore we head into the new year\, let’s pause with intention. In this reflective session\, we’ll look back at 2025 to surface the biggest lessons\, name what we’re ready to let go\, and choose what we’ll carry forward. \n  \nCome as you are; leave lighter\, clearer\, and ready to lead sustainability in 2026 with confidence and care.
URL:https://info.heartwork.earth/the-playbook-workshop#new_tab
ATTACH;FMTTYPE=image/png:https://heartwork.earth/wp-content/uploads/2025/10/6.png
END:VEVENT
END:VCALENDAR